BEGIN:VCALENDAR
VERSION:2.0
PRODID:-//Women Walking West - ECPv6.15.16.1//NONSGML v1.0//EN
CALSCALE:GREGORIAN
METHOD:PUBLISH
X-WR-CALNAME:Women Walking West
X-ORIGINAL-URL:https://womenwalkingwest.org
X-WR-CALDESC:Events for Women Walking West
REFRESH-INTERVAL;VALUE=DURATION:PT1H
X-Robots-Tag:noindex
X-PUBLISHED-TTL:PT1H
BEGIN:VTIMEZONE
TZID:America/New_York
BEGIN:DAYLIGHT
TZOFFSETFROM:-0500
TZOFFSETTO:-0400
TZNAME:EDT
DTSTART:20250309T070000
END:DAYLIGHT
BEGIN:STANDARD
TZOFFSETFROM:-0400
TZOFFSETTO:-0500
TZNAME:EST
DTSTART:20251102T060000
END:STANDARD
BEGIN:DAYLIGHT
TZOFFSETFROM:-0500
TZOFFSETTO:-0400
TZNAME:EDT
DTSTART:20260308T070000
END:DAYLIGHT
BEGIN:STANDARD
TZOFFSETFROM:-0400
TZOFFSETTO:-0500
TZNAME:EST
DTSTART:20261101T060000
END:STANDARD
BEGIN:DAYLIGHT
TZOFFSETFROM:-0500
TZOFFSETTO:-0400
TZNAME:EDT
DTSTART:20270314T070000
END:DAYLIGHT
BEGIN:STANDARD
TZOFFSETFROM:-0400
TZOFFSETTO:-0500
TZNAME:EST
DTSTART:20271107T060000
END:STANDARD
END:VTIMEZONE
BEGIN:VEVENT
DTSTART;TZID=America/New_York:20260306T093000
DTEND;TZID=America/New_York:20260306T110000
DTSTAMP:20260425T125720
CREATED:20251209T190240Z
LAST-MODIFIED:20260310T153528Z
UID:2654-1772789400-1772794800@womenwalkingwest.org
SUMMARY:Everyday English Program
DESCRIPTION:OUR NEXT CLASS IS FRIDAY MARCH 6\, 2026 \nThis free year-long curriculum is designed to empower foreign-born adult women through language development\, mentorship\, and real-world learning. Here is the overview of Classes being offered:  \nUnit 3: Language for Career Growth \n\nMar: 6\, 20\nApril: 3\, 17\nMay: 1\, 15\, 29\n\nUnit 4: Citizenship & Civic Engagement\nUnit 5: Empowerment & Advocacy \n\nJune 12\, 26\nJuly 10\, 24\n\nRSVP and more info here
URL:https://womenwalkingwest.org/calendar-of-events/everyday-english-program-12/
LOCATION:OH
CATEGORIES:Events,Everyday English Program
ATTACH;FMTTYPE=image/png:https://womenwalkingwest.org/wp-content/uploads/2025/12/Everyday-English-Program-2026.png
END:VEVENT
BEGIN:VEVENT
DTSTART;TZID=America/New_York:20260320T093000
DTEND;TZID=America/New_York:20260320T110000
DTSTAMP:20260425T125720
CREATED:20251209T192119Z
LAST-MODIFIED:20260310T153528Z
UID:2671-1773999000-1774004400@womenwalkingwest.org
SUMMARY:Everyday English Program
DESCRIPTION:OUR NEXT CLASS IS FRIDAY MARCH 20\, 2026 \nThis free year-long curriculum is designed to empower foreign-born adult women through language development\, mentorship\, and real-world learning. Here is the overview of Classes being offered:  \nUnit 3: Language for Career Growth \n\nMar: 20\nApril: 3\, 17\nMay: 1\, 15\, 29\n\nUnit 4: Citizenship & Civic Engagement\nUnit 5: Empowerment & Advocacy \n\nJune 12\, 26\nJuly 10\, 24\n\nRSVP and more info here
URL:https://womenwalkingwest.org/calendar-of-events/everyday-english-program-14/
LOCATION:OH
CATEGORIES:Events,Everyday English Program
ATTACH;FMTTYPE=image/png:https://womenwalkingwest.org/wp-content/uploads/2025/12/Everyday-English-Program-2026.png
END:VEVENT
BEGIN:VEVENT
DTSTART;TZID=America/New_York:20260403T093000
DTEND;TZID=America/New_York:20260403T110000
DTSTAMP:20260425T125720
CREATED:20251209T192207Z
LAST-MODIFIED:20260310T153528Z
UID:2673-1775208600-1775214000@womenwalkingwest.org
SUMMARY:Everyday English Program
DESCRIPTION:OUR NEXT CLASS IS FRIDAY APRIL 3\, 2026 \nThis free year-long curriculum is designed to empower foreign-born adult women through language development\, mentorship\, and real-world learning. Here is the overview of Classes being offered:  \nUnit 3: Language for Career Growth \n\nApril: 3\, 17\nMay: 1\, 15\, 29\n\nUnit 4: Citizenship & Civic Engagement\nUnit 5: Empowerment & Advocacy \n\nJune 12\, 26\nJuly 10\, 24\n\nRSVP and more info here
URL:https://womenwalkingwest.org/calendar-of-events/everyday-english-program-15/
LOCATION:OH
CATEGORIES:Events,Everyday English Program
ATTACH;FMTTYPE=image/png:https://womenwalkingwest.org/wp-content/uploads/2025/12/Everyday-English-Program-2026.png
END:VEVENT
BEGIN:VEVENT
DTSTART;TZID=America/New_York:20260409T173000
DTEND;TZID=America/New_York:20260409T193000
DTSTAMP:20260425T125720
CREATED:20260406T154505Z
LAST-MODIFIED:20260408T171907Z
UID:2941-1775755800-1775763000@womenwalkingwest.org
SUMMARY:Talk\, Learn\, Connect: An English Learning Event at the Dayton Main Library
DESCRIPTION:Looking to improve your English and connect with others?\nJoin Welcome Dayton and partners to learn about English classes available in the Dayton area!\nYou’ll have the chance to practice English through interactive activities\, get a library card for free access to learning resources\, enjoy light refreshments\, and make new connections.\nLocal organizations will be on hand to share information about their English language programs. Participants will receive a free copy of Intercambio’s ‘The Immigrant Guide’ – a 45-page guidebook that provides practical\, easy-to-read information about living and succeeding in the U.S.\nWe hope you’ll join us and our partners at Dayton Metro Library – Main\, 2nd floor Community Room on April 9!\nIn collaboration with:\nBrunner Literacy CenterCrossover Community DevelopmentDayton Metro LibraryDayton Public Schools Multilingual ProgramMiami Valley Career Technology Center Aspire ProgramMontgomery County Educational Service CenterSinclair College\nWomen Walking West
URL:https://womenwalkingwest.org/calendar-of-events/talk-learn-connect-an-english-learning-event-at-the-dayton-main-library/
LOCATION:Dayton Library\, 215 E 3rd St\, Dayton\, OH\, 45402\, United States
CATEGORIES:Events,Everyday English Program
ATTACH;FMTTYPE=image/jpeg:https://womenwalkingwest.org/wp-content/uploads/2026/04/ESL-Event-Information.jpg
END:VEVENT
BEGIN:VEVENT
DTSTART;TZID=America/New_York:20260409T180000
DTEND;TZID=America/New_York:20260409T200000
DTSTAMP:20260425T125720
CREATED:20260102T171247Z
LAST-MODIFIED:20260408T171950Z
UID:2744-1775757600-1775764800@womenwalkingwest.org
SUMMARY:Workforce Readiness Workshop Lane Community Technology Center\, Thursday\, April 9\, 2026\, 6pm–8pm
DESCRIPTION:RSVP:  Workforce Readiness workshop\n\n\nLane Community Technology Center\, Thursday\, April 9\, 2026\, 6:00pm–8:00pm \n\nMaster the job hunt with Fatemeh Hajihosseini of Women Walking West. This workshop guides you through writing standout resumes\, impressing interviewers and tackling the confusion of online applications.\n\nHamilton Lane Library \nRSVP Here \n\nAddress:\n228 Court St.\nHamilton\, OH 45011 \n\n\n\nhttps://maps.app.go \nWorkforce Readiness workshop\no.gl/48PjCw2t5FZaH8m86 \n  \nRSVP Here
URL:https://womenwalkingwest.org/calendar-of-events/workforce-readiness-workshop-hcf/
LOCATION:Lane Community Technology Center\, 228 Court St\, Hamilton\, OH\, 45011\, United States
CATEGORIES:Events,Workforce Readiness
ATTACH;FMTTYPE=image/jpeg:https://womenwalkingwest.org/wp-content/uploads/2026/01/Women-Walking-West-Workshop-01-1.jpg
END:VEVENT
BEGIN:VEVENT
DTSTART;TZID=America/New_York:20260417T093000
DTEND;TZID=America/New_York:20260417T110000
DTSTAMP:20260425T125720
CREATED:20251209T192235Z
LAST-MODIFIED:20260407T200922Z
UID:2675-1776418200-1776423600@womenwalkingwest.org
SUMMARY:Everyday English Program
DESCRIPTION:OUR NEXT CLASS IS FRIDAY May 1\, 2026 \nThis free year-long curriculum is designed to empower foreign-born adult women through language development\, mentorship\, and real-world learning. Here is the overview of Classes being offered:  \nUnit 3: Language for Career Growth \n\nApril: 17\nMay: 1\, 15\, 29\n\nUnit 4: Citizenship & Civic Engagement\nUnit 5: Empowerment & Advocacy \n\nJune 12\, 26\nJuly 10\, 24\n\nRSVP and more info here
URL:https://womenwalkingwest.org/calendar-of-events/everyday-english-program-16/
LOCATION:OH
CATEGORIES:Events,Everyday English Program
ATTACH;FMTTYPE=image/png:https://womenwalkingwest.org/wp-content/uploads/2025/12/Everyday-English-Program-2026.png
END:VEVENT
BEGIN:VEVENT
DTSTART;TZID=America/New_York:20260422T101500
DTEND;TZID=America/New_York:20260422T113000
DTSTAMP:20260425T125720
CREATED:20260327T175859Z
LAST-MODIFIED:20260408T170551Z
UID:2936-1776852900-1776857400@womenwalkingwest.org
SUMMARY:Women In Leadership Panel Discussion at Mason High School
DESCRIPTION:This panel discussion will be a closed\, in-person event in the Harvard room for Mason High School students and staff. There will be Q&A about the careers of these successful women who will provide priceless insights on how to persist while pursuing personal and career goals and achieving success despite the odds and hurdles along the way.\nGuest panelists:\n\n\nDr. Noha Eyada\, Board Member at ICM\, community activist and a Mason High School mom.\nDr. Jance Walker\, retired VP of Institutional Diversity at Xavier University\, and Dean of Department of Mathematics at Xavier University.\nDr. Milena Varbanova\, ESL Supervisor at Mason City Schools.\n\nRSVP here: https://forms.gle/vZMnLjNqnqhtW1Nm9
URL:https://womenwalkingwest.org/calendar-of-events/women-in-leadership-panel-discussion-at-mhs/
LOCATION:Mason High School\, 6100 S Mason Montgomery Rd\,\, Mason\, OH\, 45040\, United States
ATTACH;FMTTYPE=image/png:https://womenwalkingwest.org/wp-content/uploads/2026/03/2026.04.22_WIL-MHS.png
END:VEVENT
BEGIN:VEVENT
DTSTART;TZID=America/New_York:20260501T093000
DTEND;TZID=America/New_York:20260501T110000
DTSTAMP:20260425T125720
CREATED:20251209T200313Z
LAST-MODIFIED:20260310T153528Z
UID:2677-1777627800-1777633200@womenwalkingwest.org
SUMMARY:Everyday English Program
DESCRIPTION:OUR NEXT CLASS IS FRIDAY MAY 1\, 2026 \nThis free year-long curriculum is designed to empower foreign-born adult women through language development\, mentorship\, and real-world learning. Here is the overview of Classes being offered:  \nUnit 3: Language for Career Growth \n\nMay: 1\, 15\, 29\n\nUnit 4: Citizenship & Civic Engagement\nUnit 5: Empowerment & Advocacy \n\nJune 12\, 26\nJuly 10\, 24\n\nRSVP and more info here
URL:https://womenwalkingwest.org/calendar-of-events/everyday-english-program-17/
LOCATION:OH
CATEGORIES:Events,Everyday English Program
ATTACH;FMTTYPE=image/png:https://womenwalkingwest.org/wp-content/uploads/2025/12/Everyday-English-Program-2026.png
END:VEVENT
BEGIN:VEVENT
DTSTART;TZID=America/New_York:20260515T093000
DTEND;TZID=America/New_York:20260515T110000
DTSTAMP:20260425T125720
CREATED:20251209T200343Z
LAST-MODIFIED:20260310T153528Z
UID:2679-1778837400-1778842800@womenwalkingwest.org
SUMMARY:Everyday English Program
DESCRIPTION:OUR NEXT CLASS IS FRIDAY MAY 15\, 2026 \nThis free year-long curriculum is designed to empower foreign-born adult women through language development\, mentorship\, and real-world learning. Here is the overview of Classes being offered:  \nUnit 3: Language for Career Growth \n\nMay: 15\, 29\n\nUnit 4: Citizenship & Civic Engagement\nUnit 5: Empowerment & Advocacy \n\nJune 12\, 26\nJuly 10\, 24\n\nRSVP and more info here
URL:https://womenwalkingwest.org/calendar-of-events/everyday-english-program-18/
LOCATION:OH
CATEGORIES:Events,Everyday English Program
ATTACH;FMTTYPE=image/png:https://womenwalkingwest.org/wp-content/uploads/2025/12/Everyday-English-Program-2026.png
END:VEVENT
BEGIN:VEVENT
DTSTART;TZID=America/New_York:20260529T093000
DTEND;TZID=America/New_York:20260529T110000
DTSTAMP:20260425T125720
CREATED:20251209T200419Z
LAST-MODIFIED:20260310T153528Z
UID:2681-1780047000-1780052400@womenwalkingwest.org
SUMMARY:Everyday English Program
DESCRIPTION:OUR NEXT CLASS IS FRIDAY MAY 29\, 2026 \nThis free year-long curriculum is designed to empower foreign-born adult women through language development\, mentorship\, and real-world learning. Here is the overview of Classes being offered:  \nUnit 3: Language for Career Growth \n\nMay: 29\n\nUnit 4: Citizenship & Civic Engagement\nUnit 5: Empowerment & Advocacy \n\nJune 12\, 26\nJuly 10\, 24\n\nRSVP and more info here
URL:https://womenwalkingwest.org/calendar-of-events/everyday-english-program-19/
LOCATION:OH
CATEGORIES:Events,Everyday English Program
ATTACH;FMTTYPE=image/png:https://womenwalkingwest.org/wp-content/uploads/2025/12/Everyday-English-Program-2026.png
END:VEVENT
BEGIN:VEVENT
DTSTART;TZID=America/New_York:20260612T093000
DTEND;TZID=America/New_York:20260612T110000
DTSTAMP:20260425T125720
CREATED:20251209T200500Z
LAST-MODIFIED:20260310T153528Z
UID:2683-1781256600-1781262000@womenwalkingwest.org
SUMMARY:Everyday English Program
DESCRIPTION:OUR NEXT CLASS IS FRIDAY JUNE 12\, 2026 \nThis free year-long curriculum is designed to empower foreign-born adult women through language development\, mentorship\, and real-world learning. Here is the overview of Classes being offered:  \nUnit 4: Citizenship & Civic Engagement \nUnit 5: Empowerment & Advocacy \n\nJune 12\, 26\nJuly 10\, 24\n\nRSVP and more info here
URL:https://womenwalkingwest.org/calendar-of-events/everyday-english-program-20/
LOCATION:OH
CATEGORIES:Events,Everyday English Program
ATTACH;FMTTYPE=image/png:https://womenwalkingwest.org/wp-content/uploads/2025/12/Everyday-English-Program-2026.png
END:VEVENT
BEGIN:VEVENT
DTSTART;TZID=America/New_York:20260626T093000
DTEND;TZID=America/New_York:20260626T110000
DTSTAMP:20260425T125720
CREATED:20251209T200530Z
LAST-MODIFIED:20260310T153528Z
UID:2685-1782466200-1782471600@womenwalkingwest.org
SUMMARY:Everyday English Program
DESCRIPTION:OUR NEXT CLASS IS FRIDAY JUNE 26\, 2026 \nThis free year-long curriculum is designed to empower foreign-born adult women through language development\, mentorship\, and real-world learning. Here is the overview of Classes being offered:  \nUnit 4: Citizenship & Civic Engagement \nUnit 5: Empowerment & Advocacy \n\nJune 26\nJuly 10\, 24\n\nRSVP and more info here
URL:https://womenwalkingwest.org/calendar-of-events/everyday-english-program-21/
LOCATION:OH
CATEGORIES:Events,Everyday English Program
ATTACH;FMTTYPE=image/png:https://womenwalkingwest.org/wp-content/uploads/2025/12/Everyday-English-Program-2026.png
END:VEVENT
BEGIN:VEVENT
DTSTART;TZID=America/New_York:20260710T093000
DTEND;TZID=America/New_York:20260710T110000
DTSTAMP:20260425T125720
CREATED:20251209T200720Z
LAST-MODIFIED:20260310T153528Z
UID:2687-1783675800-1783681200@womenwalkingwest.org
SUMMARY:Everyday English Program
DESCRIPTION:OUR NEXT CLASS IS FRIDAY JULY 10\, 2026 \nThis free year-long curriculum is designed to empower foreign-born adult women through language development\, mentorship\, and real-world learning. Here is the overview of Classes being offered:  \nUnit 4: Citizenship & Civic Engagement \nUnit 5: Empowerment & Advocacy \n\nJuly 10\, 24\n\nRSVP and more info here
URL:https://womenwalkingwest.org/calendar-of-events/everyday-english-program-22/
LOCATION:OH
CATEGORIES:Events,Everyday English Program
ATTACH;FMTTYPE=image/png:https://womenwalkingwest.org/wp-content/uploads/2025/12/Everyday-English-Program-2026.png
END:VEVENT
BEGIN:VEVENT
DTSTART;TZID=America/New_York:20260724T093000
DTEND;TZID=America/New_York:20260724T110000
DTSTAMP:20260425T125720
CREATED:20251209T200831Z
LAST-MODIFIED:20260310T153528Z
UID:2689-1784885400-1784890800@womenwalkingwest.org
SUMMARY:Everyday English Program
DESCRIPTION:This is our last class of this curriculum year\, JULY 24\, 2026 \nThis free year-long curriculum is designed to empower foreign-born adult women through language development\, mentorship\, and real-world learning. Here is the overview of Classes being offered:  \nUnit 4: Citizenship & Civic Engagement \nUnit 5: Empowerment & Advocacy \n\nJuly 24\n\nRSVP and more info here
URL:https://womenwalkingwest.org/calendar-of-events/everyday-english-program-23/
LOCATION:OH
CATEGORIES:Events,Everyday English Program
ATTACH;FMTTYPE=image/png:https://womenwalkingwest.org/wp-content/uploads/2025/12/Everyday-English-Program-2026.png
END:VEVENT
BEGIN:VEVENT
DTSTART;TZID=America/New_York:20260801T130000
DTEND;TZID=America/New_York:20260801T160000
DTSTAMP:20260425T125720
CREATED:20251211T165532Z
LAST-MODIFIED:20260310T151950Z
UID:2699-1785589200-1785600000@womenwalkingwest.org
SUMMARY:Community Engagement: Annual Pool Party and Potluck
DESCRIPTION:Our 3rd annual Community Picnic and Potluck pool party at Mason Aquatic Center. Save the Date! Details TBD
URL:https://womenwalkingwest.org/calendar-of-events/annual-pool-party-and-potluck/
LOCATION:Mason Aquatic Center\, 6249 Mason Montgomery Rd\, Mason\, OH\, 45040\, United States
CATEGORIES:Community Engagement,Events
END:VEVENT
BEGIN:VEVENT
DTSTART;TZID=America/New_York:20261105T060000
DTEND;TZID=America/New_York:20261105T090000
DTSTAMP:20260425T125720
CREATED:20260102T171247Z
LAST-MODIFIED:20260327T175043Z
UID:2746-1793858400-1793869200@womenwalkingwest.org
SUMMARY:7th Annual RISE Gala
DESCRIPTION:Our Annual RISE Gala is the FIRST Thursday of November. \nSave the Date for 11/5/2026! \nDetails TBD
URL:https://womenwalkingwest.org/calendar-of-events/7th-annual-rise-gala/
LOCATION:OH
CATEGORIES:Community Engagement,Events
END:VEVENT
END:VCALENDAR