BEGIN:VCALENDAR
VERSION:2.0
PRODID:-//Women Walking West - ECPv6.15.16.1//NONSGML v1.0//EN
CALSCALE:GREGORIAN
METHOD:PUBLISH
X-ORIGINAL-URL:https://womenwalkingwest.org
X-WR-CALDESC:Events for Women Walking West
REFRESH-INTERVAL;VALUE=DURATION:PT1H
X-Robots-Tag:noindex
X-PUBLISHED-TTL:PT1H
BEGIN:VTIMEZONE
TZID:America/New_York
BEGIN:DAYLIGHT
TZOFFSETFROM:-0500
TZOFFSETTO:-0400
TZNAME:EDT
DTSTART:20240310T070000
END:DAYLIGHT
BEGIN:STANDARD
TZOFFSETFROM:-0400
TZOFFSETTO:-0500
TZNAME:EST
DTSTART:20241103T060000
END:STANDARD
BEGIN:DAYLIGHT
TZOFFSETFROM:-0500
TZOFFSETTO:-0400
TZNAME:EDT
DTSTART:20250309T070000
END:DAYLIGHT
BEGIN:STANDARD
TZOFFSETFROM:-0400
TZOFFSETTO:-0500
TZNAME:EST
DTSTART:20251102T060000
END:STANDARD
BEGIN:DAYLIGHT
TZOFFSETFROM:-0500
TZOFFSETTO:-0400
TZNAME:EDT
DTSTART:20260308T070000
END:DAYLIGHT
BEGIN:STANDARD
TZOFFSETFROM:-0400
TZOFFSETTO:-0500
TZNAME:EST
DTSTART:20261101T060000
END:STANDARD
BEGIN:DAYLIGHT
TZOFFSETFROM:-0500
TZOFFSETTO:-0400
TZNAME:EDT
DTSTART:20270314T070000
END:DAYLIGHT
BEGIN:STANDARD
TZOFFSETFROM:-0400
TZOFFSETTO:-0500
TZNAME:EST
DTSTART:20271107T060000
END:STANDARD
END:VTIMEZONE
BEGIN:VEVENT
DTSTART;TZID=America/New_York:20260306T093000
DTEND;TZID=America/New_York:20260306T110000
DTSTAMP:20260425T120429
CREATED:20251209T190240Z
LAST-MODIFIED:20260310T153528Z
UID:2654-1772789400-1772794800@womenwalkingwest.org
SUMMARY:Everyday English Program
DESCRIPTION:OUR NEXT CLASS IS FRIDAY MARCH 6\, 2026 \nThis free year-long curriculum is designed to empower foreign-born adult women through language development\, mentorship\, and real-world learning. Here is the overview of Classes being offered:  \nUnit 3: Language for Career Growth \n\nMar: 6\, 20\nApril: 3\, 17\nMay: 1\, 15\, 29\n\nUnit 4: Citizenship & Civic Engagement\nUnit 5: Empowerment & Advocacy \n\nJune 12\, 26\nJuly 10\, 24\n\nRSVP and more info here
URL:https://womenwalkingwest.org/calendar-of-events/everyday-english-program-12/
CATEGORIES:Events,Everyday English Program
ATTACH;FMTTYPE=image/png:https://womenwalkingwest.org/wp-content/uploads/2025/12/Everyday-English-Program-2026.png
END:VEVENT
BEGIN:VEVENT
DTSTART;TZID=America/New_York:20260225T180000
DTEND;TZID=America/New_York:20260225T193000
DTSTAMP:20260425T120429
CREATED:20260102T171247Z
LAST-MODIFIED:20260310T152139Z
UID:2743-1772042400-1772047800@womenwalkingwest.org
SUMMARY:Workforce Readiness Program
DESCRIPTION:Dr. Cynthia Matossian from American College of Eye Technicians (ACET) will discuss careers in the optometry fields. \n  \nRSVP here \nGoogle Meet joining info\nVideo call link: https://meet.google.com/smk-dgud-oku\nOr dial: ‪(US) +1 218-451-4203‬ PIN: ‪996 868 723‬#\nMore phone numbers: https://tel.meet/smk-dgud-oku?pin=4011693400232
URL:https://womenwalkingwest.org/calendar-of-events/panel-discussion-careers-in-ophamology/
CATEGORIES:Events,Workforce Readiness
END:VEVENT
BEGIN:VEVENT
DTSTART;TZID=America/New_York:20260220T093000
DTEND;TZID=America/New_York:20260220T110000
DTSTAMP:20260425T120429
CREATED:20251202T155903Z
LAST-MODIFIED:20260310T153528Z
UID:2652-1771579800-1771585200@womenwalkingwest.org
SUMMARY:Everyday English Program
DESCRIPTION:OUR NEXT CLASS IS FRIDAY FEBRUARY 20\, 2026 \nThis free year-long curriculum is designed to empower foreign-born adult women through language development\, mentorship\, and real-world learning. Here is the overview of Classes being offered:  \nUnit 2: How We Show Up \n\nFeb 20\n\nUnit 3: Language for Career Growth \n\nMar: 6\, 20\nApril: 3\, 17\nMay: 1\, 15\, 29\n\nUnit 4: Citizenship & Civic Engagement\nUnit 5: Empowerment & Advocacy \n\nJune 12\, 26\nJuly 10\, 24\n\nRSVP and more info here
URL:https://womenwalkingwest.org/calendar-of-events/everyday-english-program-11/
CATEGORIES:Events,Everyday English Program
ATTACH;FMTTYPE=image/png:https://womenwalkingwest.org/wp-content/uploads/2025/12/Everyday-English-Program-2026.png
END:VEVENT
BEGIN:VEVENT
DTSTART;TZID=America/New_York:20260206T093000
DTEND;TZID=America/New_York:20260206T110000
DTSTAMP:20260425T120429
CREATED:20251202T155236Z
LAST-MODIFIED:20260310T153528Z
UID:2649-1770370200-1770375600@womenwalkingwest.org
SUMMARY:Everyday English Program
DESCRIPTION:OUR NEXT CLASS IS FRIDAY FEBRUARY 6\, 2026 \nThis free year-long curriculum is designed to empower foreign-born adult women through language development\, mentorship\, and real-world learning. Here is the overview of Classes being offered:  \nUnit 2: How We Show Up \n\nFeb 6\, 20\n\nUnit 3: Language for Career Growth \n\nMar: 6\, 20\nApril: 3\, 17\nMay: 1\, 15\, 29\n\nUnit 4: Citizenship & Civic Engagement\nUnit 5: Empowerment & Advocacy \n\nJune 12\, 26\nJuly 10\, 24\n\nRSVP and more info here
URL:https://womenwalkingwest.org/calendar-of-events/everyday-english-program-10/
CATEGORIES:Events,Everyday English Program
ATTACH;FMTTYPE=image/png:https://womenwalkingwest.org/wp-content/uploads/2025/12/Everyday-English-Program-2026.png
END:VEVENT
BEGIN:VEVENT
DTSTART;TZID=America/New_York:20260205T180000
DTEND;TZID=America/New_York:20260205T193000
DTSTAMP:20260425T120429
CREATED:20260102T171247Z
LAST-MODIFIED:20260310T152341Z
UID:2742-1770314400-1770319800@womenwalkingwest.org
SUMMARY:Women in Leadership Program
DESCRIPTION:Guest Speaker: Ivy K. Banks\, M.Ed.\, J.D. – Vice President\, Legal Affairs\, Xavier University and Board member for Women Walking West \nJoin us in an engaging conversation with Ivy as she discusses her academic and career journey of strength and resilience. \nHear about Ivy’s experiences and how this Xavier executive has navigated the landscape along the way to personal and professional success. \nPlease RSVP here \nGoogle Meet joining info\nVideo call link: https://meet.google.com/ahy-xfoh-sif\nOr dial: ‪(US) +1 401-830-3400‬ PIN: ‪268 396 714‬#\nMore phone numbers: https://tel.meet/ahy-xfoh-sif?pin=3121768662621
URL:https://womenwalkingwest.org/calendar-of-events/panel-discussion-meet-and-greet-with-board-member/
CATEGORIES:Events,Women In Leadership
ATTACH;FMTTYPE=image/png:https://womenwalkingwest.org/wp-content/uploads/2026/01/WIL.website-2026.02.5-Ivy-Banks-.png
END:VEVENT
BEGIN:VEVENT
DTSTART;TZID=America/New_York:20260123T093000
DTEND;TZID=America/New_York:20260123T110000
DTSTAMP:20260425T120429
CREATED:20251202T152325Z
LAST-MODIFIED:20260310T153528Z
UID:2645-1769160600-1769166000@womenwalkingwest.org
SUMMARY:Everyday English Program
DESCRIPTION:OUR NEXT CLASS IS FRIDAY JANUARY 23\, 2026 \nThis free year-long curriculum is designed to empower foreign-born adult women through language development\, mentorship\, and real-world learning. Here is the overview of Classes being offered:  \nUnit 2: How We Show Up \n\nJanuary 23\nFeb 6\, 20\n\nUnit 3: Language for Career Growth \n\nMar: 6\, 20\nApril: 3\, 17\nMay: 1\, 15\, 29\n\nUnit 4: Citizenship & Civic Engagement\nUnit 5: Empowerment & Advocacy \n\nJune 12\, 26\nJuly 10\, 24\n\nRSVP and more info here
URL:https://womenwalkingwest.org/calendar-of-events/everyday-english-program-9/
CATEGORIES:Events,Everyday English Program
ATTACH;FMTTYPE=image/png:https://womenwalkingwest.org/wp-content/uploads/2025/12/Everyday-English-Program-2026.png
END:VEVENT
BEGIN:VEVENT
DTSTART;TZID=America/New_York:20260109T093000
DTEND;TZID=America/New_York:20260109T110000
DTSTAMP:20260425T120429
CREATED:20251202T151648Z
LAST-MODIFIED:20260310T153528Z
UID:2644-1767951000-1767956400@womenwalkingwest.org
SUMMARY:Everyday English Program
DESCRIPTION:OUR NEXT CLASS IS FRIDAY JANUARY 9\, 2026 \nThis free year-long curriculum is designed to empower foreign-born adult women through language development\, mentorship\, and real-world learning. Here is the overview of Classes being offered: \nUnit 2: How We Show Up \n\nJan 9\, 23\nFeb 6\,20\n\nUnit 3: Language for Career Growth \n\nMar: 6\, 20\nApril: 3\, 17\nMay: 1\, 15\, 29\n\nUnit 4: Citizenship & Civic Engagement\nUnit 5: Empowerment & Advocacy \n\nJune 12\, 26\nJuly 10\,24\n\nRSVP and more info here
URL:https://womenwalkingwest.org/calendar-of-events/everyday-english-program-8/
CATEGORIES:Events,Everyday English Program
ATTACH;FMTTYPE=image/png:https://womenwalkingwest.org/wp-content/uploads/2025/12/Everyday-English-Program-2026.png
END:VEVENT
BEGIN:VEVENT
DTSTART;TZID=America/New_York:20251219T093000
DTEND;TZID=America/New_York:20251219T110000
DTSTAMP:20260425T120429
CREATED:20251209T190823Z
LAST-MODIFIED:20260310T151323Z
UID:2668-1766136600-1766142000@womenwalkingwest.org
SUMMARY:Everyday English Program
DESCRIPTION:OUR NEXT CLASS IS FRIDAY DECEMBER 19\, 2025 \nThis free year-long curriculum is designed to empower foreign-born adult women through language development\, mentorship\, and real-world learning. Here is the overview of Classes being offered: \nUnit 1: Our Place in the World \nThis session will be in person in Mason. Please RSVP for details. \n\nDec 19\n\nUnit 2: How We Show Up \n\nJan 9\, 23\nFeb 6\,20\n\nUnit 3: Language for Career Growth \n\nMar: 6\, 20\nApril: 3\, 17\nMay: 1\, 15\, 29\n\nUnit 4: Citizenship & Civic Engagement\nUnit 5: Empowerment & Advocacy \n\nJune 12\, 26\nJuly 10\,24\n\nRSVP and more info here
URL:https://womenwalkingwest.org/calendar-of-events/everyday-english-program-13/
CATEGORIES:Events,Everyday English Program
ATTACH;FMTTYPE=image/png:https://womenwalkingwest.org/wp-content/uploads/2025/09/Everyday-English-Program-1-1-e1757459133644.png
END:VEVENT
BEGIN:VEVENT
DTSTART;TZID=America/New_York:20251205T093000
DTEND;TZID=America/New_York:20251205T110000
DTSTAMP:20260425T120429
CREATED:20251006T150108Z
LAST-MODIFIED:20260310T151323Z
UID:2548-1764927000-1764932400@womenwalkingwest.org
SUMMARY:Everyday English Program
DESCRIPTION:OUR NEXT CLASS IS FRIDAY DECEMBER 5\, 2025 \nThis free year-long curriculum is designed to empower foreign-born adult women through language development\, mentorship\, and real-world learning. Here is the overview of Classes being offered: \nUnit 1: Our Place in the World \n\nDec 5 \nDec 19\n\nUnit 2: How We Show Up \n\nJan 9\, 23\nFeb 6\,20\n\nUnit 3: Language for Career Growth \n\nMar: 6\, 20\nApril: 3\, 17\nMay: 1\, 15\, 29\n\nUnit 4: Citizenship & Civic Engagement\nUnit 5: Empowerment & Advocacy \n\nJune 12\, 26\nJuly 10\,24\n\nRSVP and more info here
URL:https://womenwalkingwest.org/calendar-of-events/everyday-english-program-7/
CATEGORIES:Events,Everyday English Program
ATTACH;FMTTYPE=image/png:https://womenwalkingwest.org/wp-content/uploads/2025/09/Everyday-English-Program-1-1-e1757459133644.png
END:VEVENT
BEGIN:VEVENT
DTSTART;TZID=America/New_York:20251121T093000
DTEND;TZID=America/New_York:20251121T110000
DTSTAMP:20260425T120429
CREATED:20251006T145953Z
LAST-MODIFIED:20260310T151323Z
UID:2546-1763717400-1763722800@womenwalkingwest.org
SUMMARY:Everyday English Program
DESCRIPTION:OUR NEXT CLASS IS FRIDAY NOVEMBER 21\, 2025 \nThis free year-long curriculum is designed to empower foreign-born adult women through language development\, mentorship\, and real-world learning. Here is the overview of Classes being offered: \nUnit 1: Our Place in the World \n\nNov 21\nDec 5 \n\nUnit 2: How We Show Up \n\nJan 9\, 23\nFeb 6\,20\n\nUnit 3: Language for Career Growth \n\nMar13\,27\nApr 10\,24\nMay 15\, 29\n\nUnit 4: Citizenship & Civic Engagement\nUnit 5: Empowerment & Advocacy \n\nJune 12\, 26\nJuly 10\,24\n\nRSVP and more info here
URL:https://womenwalkingwest.org/calendar-of-events/everyday-english-program-6/
CATEGORIES:Events,Everyday English Program
ATTACH;FMTTYPE=image/png:https://womenwalkingwest.org/wp-content/uploads/2025/09/Everyday-English-Program-1-1-e1757459133644.png
END:VEVENT
BEGIN:VEVENT
DTSTART;TZID=America/New_York:20251113T180000
DTEND;TZID=America/New_York:20251113T210000
DTSTAMP:20260425T120429
CREATED:20250917T233750Z
LAST-MODIFIED:20250917T234026Z
UID:2490-1763056800-1763067600@womenwalkingwest.org
SUMMARY:6th Annual RISE Gala Celebrating our 10th Anniversary
DESCRIPTION:You’re invited to join us in celebrating a remarkable milestone — our 10-year anniversary— at this year’s Annual RISE Gala.\n\n\nThis special evening will honor a decade of impact\, highlight the inspiring progress of our mentees\, express gratitude to our generous donors and dedicated community partners\, and shine a well-deserved spotlight on the mentors and volunteers who make our mission possible. \nMore information
URL:https://womenwalkingwest.org/calendar-of-events/6th-annual-rise-gala-celebrating-our-10th-anniversary/
LOCATION:Manor House Event Center\, 7440 S. Mason-Montgomery Rd\, Mason\, OH\, 45040\, United States
ATTACH;FMTTYPE=image/png:https://womenwalkingwest.org/wp-content/uploads/2025/06/2025-gala-banner-nobutton.png
END:VEVENT
BEGIN:VEVENT
DTSTART;TZID=America/New_York:20251107T093000
DTEND;TZID=America/New_York:20251107T110000
DTSTAMP:20260425T120429
CREATED:20251006T145829Z
LAST-MODIFIED:20260310T151323Z
UID:2544-1762507800-1762513200@womenwalkingwest.org
SUMMARY:Everyday English Program
DESCRIPTION:OUR NEXT CLASS IS FRIDAY NOVEMBER 7\, 2025 \nThis free year-long curriculum is designed to empower foreign-born adult women through language development\, mentorship\, and real-world learning. Here is the overview of Classes being offered: \nUnit 1: Our Place in the World \n\nNov 7\, 21\nDec 5 \n\nUnit 2: How We Show Up \n\nJan 9\, 23\nFeb 6\,20\n\nUnit 3: Language for Career Growth \n\nMar13\,27\nApr 10\,24\nMay 15\, 29\n\nUnit 4: Citizenship & Civic Engagement\nUnit 5: Empowerment & Advocacy \n\nJune 12\, 26\nJuly 10\,24\n\nRSVP and more info here
URL:https://womenwalkingwest.org/calendar-of-events/everyday-english-program-5/
CATEGORIES:Events,Everyday English Program
ATTACH;FMTTYPE=image/png:https://womenwalkingwest.org/wp-content/uploads/2025/09/Everyday-English-Program-1-1-e1757459133644.png
END:VEVENT
BEGIN:VEVENT
DTSTART;TZID=America/New_York:20251024T093000
DTEND;TZID=America/New_York:20251024T110000
DTSTAMP:20260425T120429
CREATED:20251006T145017Z
LAST-MODIFIED:20260310T151323Z
UID:2539-1761298200-1761303600@womenwalkingwest.org
SUMMARY:Everyday English Program
DESCRIPTION:OUR NEXT CLASS IS FRIDAY OCTOBER 24\, 2025 \nThis free year-long curriculum is designed to empower foreign-born adult women through language development\, mentorship\, and real-world learning. Here is the overview of Classes being offered: \nUnit 1: Our Place in the World \n\nOct 24\nNov 7\, 21\nDec 5 \n\nUnit 2: How We Show Up \n\nJan 9\, 23\nFeb 6\,20\n\nUnit 3: Language for Career Growth \n\nMar13\,27\nApr 10\,24\nMay 15\, 29\n\nUnit 4: Citizenship & Civic Engagement\nUnit 5: Empowerment & Advocacy \n\nJune 12\, 26\nJuly 10\,24\n\nRSVP and more info here
URL:https://womenwalkingwest.org/calendar-of-events/everyday-english-program-4/
CATEGORIES:Events,Everyday English Program
ATTACH;FMTTYPE=image/png:https://womenwalkingwest.org/wp-content/uploads/2025/09/Everyday-English-Program-1-1-e1757459133644.png
END:VEVENT
BEGIN:VEVENT
DTSTART;TZID=America/New_York:20251011T100000
DTEND;TZID=America/New_York:20251011T120000
DTSTAMP:20260425T120429
CREATED:20250909T230952Z
LAST-MODIFIED:20250911T142938Z
UID:2474-1760176800-1760184000@womenwalkingwest.org
SUMMARY:STEM & Robotics Careers Workshop at Sinclair
DESCRIPTION:Explore a future career in a STEM and Robotics fields with this interactive workshop. \nThis is open to the public\, intended for any HS student 9 through 12th grade\, college undergrads\, or any adult looking to make a career move into these fields. \nFor more information and to RSVP click here  \n 
URL:https://womenwalkingwest.org/calendar-of-events/stem-robotics-careers-workshop-at-sinclair/
LOCATION:Sinclair Community College\, 5386 Courseview Dr\, Mason\, OH\, 45040\, United States
ATTACH;FMTTYPE=image/png:https://womenwalkingwest.org/wp-content/uploads/2025/09/October-11-Event-Flyer-1-scaled-1-e1757459492406.png
END:VEVENT
BEGIN:VEVENT
DTSTART;TZID=America/New_York:20251010T093000
DTEND;TZID=America/New_York:20251010T110000
DTSTAMP:20260425T120429
CREATED:20251006T144712Z
LAST-MODIFIED:20260310T151323Z
UID:2536-1760088600-1760094000@womenwalkingwest.org
SUMMARY:Everyday English Program
DESCRIPTION:OUR NEXT CLASS IS FRIDAY OCTOBER 10\, 2025 \nThis free year-long curriculum is designed to empower foreign-born adult women through language development\, mentorship\, and real-world learning. Here is the overview of Classes being offered: \nUnit 1: Our Place in the World \n\nOct 10\,24\nNov 7\, 21\nDec 5 \n\nUnit 2: How We Show Up \n\nJan 9\, 23\nFeb 6\,20\n\nUnit 3: Language for Career Growth \n\nMar13\,27\nApr 10\,24\nMay 15\, 29\n\nUnit 4: Citizenship & Civic Engagement\nUnit 5: Empowerment & Advocacy \n\nJune 12\, 26\nJuly 10\,24\n\nRSVP and more info here
URL:https://womenwalkingwest.org/calendar-of-events/everyday-english-program-3/
CATEGORIES:Events,Everyday English Program
ATTACH;FMTTYPE=image/png:https://womenwalkingwest.org/wp-content/uploads/2025/09/Everyday-English-Program-1-1-e1757459133644.png
END:VEVENT
BEGIN:VEVENT
DTSTART;TZID=America/New_York:20250926T093000
DTEND;TZID=America/New_York:20250926T110000
DTSTAMP:20260425T120429
CREATED:20250925T123236Z
LAST-MODIFIED:20260310T151323Z
UID:2510-1758879000-1758884400@womenwalkingwest.org
SUMMARY:Everyday English Program
DESCRIPTION:This free year-long curriculum is designed to empower foreign-born adult women through language development\, mentorship\, and real-world learning. Here is the overview of Classes being offered: \nUnit 1: Our Place in the World \n\nSep 12\,26\nOct 10\,24\nNov 7\, 21\nDec 5 \n\nUnit 2: How We Show Up \n\nJan 9\, 23\nFeb 6\,20\n\nUnit 3: Language for Career Growth \n\nMar13\,27\nApr 10\,24\nMay 15\, 29\n\nUnit 4: Citizenship & Civic Engagement\nUnit 5: Empowerment & Advocacy \n\nJune 12\, 26\nJuly 10\,24\n\nRSVP and more info here
URL:https://womenwalkingwest.org/calendar-of-events/everyday-english-program-2/
CATEGORIES:Events,Everyday English Program
ATTACH;FMTTYPE=image/png:https://womenwalkingwest.org/wp-content/uploads/2025/09/Everyday-English-Program-1-1-e1757459133644.png
END:VEVENT
BEGIN:VEVENT
DTSTART;TZID=America/New_York:20250912T093000
DTEND;TZID=America/New_York:20250912T110000
DTSTAMP:20260425T120429
CREATED:20250909T222915Z
LAST-MODIFIED:20260310T151323Z
UID:2471-1757669400-1757674800@womenwalkingwest.org
SUMMARY:Everyday English Program
DESCRIPTION:This free year-long curriculum is designed to empower foreign-born adult women through language development\, mentorship\, and real-world learning. Here is the overview of Classes being offered: \nQ1\, September 2025\nUnit 1: Our Place in the World\nQ2\, December 2025\nUnit 2: How We Show Up\nQ3\, March 2026\nUnit 3: Language for Career Growth\nQ4\, June 2026\nUnit 4: Citizenship & Civic Engagement\nUnit 5: Empowerment & Advocacy \n  \nRSVP and more info here
URL:https://womenwalkingwest.org/calendar-of-events/everyday-english-program/
CATEGORIES:Events,Everyday English Program
ATTACH;FMTTYPE=image/png:https://womenwalkingwest.org/wp-content/uploads/2025/09/Everyday-English-Program-1-1-e1757459133644.png
END:VEVENT
BEGIN:VEVENT
DTSTART;TZID=America/New_York:20250905T090000
DTEND;TZID=America/New_York:20250905T150000
DTSTAMP:20260425T120429
CREATED:20250904T235445Z
LAST-MODIFIED:20250905T000141Z
UID:2461-1757062800-1757084400@womenwalkingwest.org
SUMMARY:Camp Joy Leadership Camp
DESCRIPTION:Women Walking West invites you to take part in an exciting day camp designed to inspire growth\, leadership\, and connection. Led by experienced facilitators\, the program offers hands-on experience to enhance leadership\, communication\, and collaboration skills.
URL:https://womenwalkingwest.org/calendar-of-events/camp-joy-leadership-camp/
LOCATION:Camp Joy Outdoor Educational Center\, 10117 Old CCC Rd\, Clarksville\, OH\, 45113\, United States
END:VEVENT
BEGIN:VEVENT
DTSTART;VALUE=DATE:20250806
DTEND;VALUE=DATE:20251021
DTSTAMP:20260425T120429
CREATED:20251008T161433Z
LAST-MODIFIED:20251008T161433Z
UID:2550-1754438400-1761004799@womenwalkingwest.org
SUMMARY:Annual Essay Story Contest\, ends 10/20/2025
DESCRIPTION:“Learning to Dream in English”  \nOvercoming Challenges & Building New Beginnings \nA Storytelling Competition  \n\nChoose a Theme: \n\n\nDescribe a moment when the language barrier made you feel invisible or misunderstood. How did you overcome it\, and what did that experience teach you about your voice\, resilience\, and identity?\n\n\nTell us about a dream you hold for your future—whether it’s a career\, a passion\, or a personal goal. How are you working toward it\, and how has thinking\, speaking\, or even dreaming in English shaped your path? \n\n2. Format Your Essay: \n\nMinimum 1000 words\n12pt font\, double spaced\nPlease have a mentor or friend proofread your essay before submitting.\n\n3. Official Contest Rules: \n\nParticipants must be born outside of the United States and be 18 years of age or older.\nSubmission dates are from August 6th\, 2025 to October 20th 2025. \nAll essays must be submitted before or on Monday\, October 20\, 2025 for consideration.\nIf you have entered the contest before\, you may do so again. However\, if you have previously won\, we congratulate you\, but you are excluded from this year’s prizes.\n\nSend your essay in Word or PDF format to: essaycontest@womenwalkingwest.org \nPrizes You Could Win: \nThe five (5) contest winners will be notified on Friday October 31\, 2025 as follows: \n\n\n\n1st prize winner will receive: $500 cash award \n2nd prize winner will receive: $300 cash award \n3rd prize winner will receive: $200 cash award \n2 Honorary mentions will receive: $100 cash award\n\n\n\n 
URL:https://womenwalkingwest.org/calendar-of-events/annual-essay-story-contest-ends-10-20-2025/
ATTACH;FMTTYPE=image/png:https://womenwalkingwest.org/wp-content/uploads/2025/10/2025-Essay-contest-image.png
END:VEVENT
END:VCALENDAR