BEGIN:VCALENDAR
VERSION:2.0
PRODID:-//Women Walking West - ECPv6.15.16.1//NONSGML v1.0//EN
CALSCALE:GREGORIAN
METHOD:PUBLISH
X-ORIGINAL-URL:https://womenwalkingwest.org
X-WR-CALDESC:Events for Women Walking West
REFRESH-INTERVAL;VALUE=DURATION:PT1H
X-Robots-Tag:noindex
X-PUBLISHED-TTL:PT1H
BEGIN:VTIMEZONE
TZID:America/New_York
BEGIN:DAYLIGHT
TZOFFSETFROM:-0500
TZOFFSETTO:-0400
TZNAME:EDT
DTSTART:20240310T070000
END:DAYLIGHT
BEGIN:STANDARD
TZOFFSETFROM:-0400
TZOFFSETTO:-0500
TZNAME:EST
DTSTART:20241103T060000
END:STANDARD
BEGIN:DAYLIGHT
TZOFFSETFROM:-0500
TZOFFSETTO:-0400
TZNAME:EDT
DTSTART:20250309T070000
END:DAYLIGHT
BEGIN:STANDARD
TZOFFSETFROM:-0400
TZOFFSETTO:-0500
TZNAME:EST
DTSTART:20251102T060000
END:STANDARD
BEGIN:DAYLIGHT
TZOFFSETFROM:-0500
TZOFFSETTO:-0400
TZNAME:EDT
DTSTART:20260308T070000
END:DAYLIGHT
BEGIN:STANDARD
TZOFFSETFROM:-0400
TZOFFSETTO:-0500
TZNAME:EST
DTSTART:20261101T060000
END:STANDARD
END:VTIMEZONE
BEGIN:VEVENT
DTSTART;VALUE=DATE:20250806
DTEND;VALUE=DATE:20251021
DTSTAMP:20260425T233128
CREATED:20251008T161433Z
LAST-MODIFIED:20251008T161433Z
UID:2550-1754438400-1761004799@womenwalkingwest.org
SUMMARY:Annual Essay Story Contest\, ends 10/20/2025
DESCRIPTION:“Learning to Dream in English”  \nOvercoming Challenges & Building New Beginnings \nA Storytelling Competition  \n\nChoose a Theme: \n\n\nDescribe a moment when the language barrier made you feel invisible or misunderstood. How did you overcome it\, and what did that experience teach you about your voice\, resilience\, and identity?\n\n\nTell us about a dream you hold for your future—whether it’s a career\, a passion\, or a personal goal. How are you working toward it\, and how has thinking\, speaking\, or even dreaming in English shaped your path? \n\n2. Format Your Essay: \n\nMinimum 1000 words\n12pt font\, double spaced\nPlease have a mentor or friend proofread your essay before submitting.\n\n3. Official Contest Rules: \n\nParticipants must be born outside of the United States and be 18 years of age or older.\nSubmission dates are from August 6th\, 2025 to October 20th 2025. \nAll essays must be submitted before or on Monday\, October 20\, 2025 for consideration.\nIf you have entered the contest before\, you may do so again. However\, if you have previously won\, we congratulate you\, but you are excluded from this year’s prizes.\n\nSend your essay in Word or PDF format to: essaycontest@womenwalkingwest.org \nPrizes You Could Win: \nThe five (5) contest winners will be notified on Friday October 31\, 2025 as follows: \n\n\n\n1st prize winner will receive: $500 cash award \n2nd prize winner will receive: $300 cash award \n3rd prize winner will receive: $200 cash award \n2 Honorary mentions will receive: $100 cash award\n\n\n\n 
URL:https://womenwalkingwest.org/calendar-of-events/annual-essay-story-contest-ends-10-20-2025/
LOCATION:OH
ATTACH;FMTTYPE=image/png:https://womenwalkingwest.org/wp-content/uploads/2025/10/2025-Essay-contest-image.png
END:VEVENT
END:VCALENDAR