BEGIN:VCALENDAR
VERSION:2.0
PRODID:-//Women Walking West - ECPv6.15.16.1//NONSGML v1.0//EN
CALSCALE:GREGORIAN
METHOD:PUBLISH
X-ORIGINAL-URL:https://womenwalkingwest.org
X-WR-CALDESC:Events for Women Walking West
REFRESH-INTERVAL;VALUE=DURATION:PT1H
X-Robots-Tag:noindex
X-PUBLISHED-TTL:PT1H
BEGIN:VTIMEZONE
TZID:America/New_York
BEGIN:DAYLIGHT
TZOFFSETFROM:-0500
TZOFFSETTO:-0400
TZNAME:EDT
DTSTART:20250309T070000
END:DAYLIGHT
BEGIN:STANDARD
TZOFFSETFROM:-0400
TZOFFSETTO:-0500
TZNAME:EST
DTSTART:20251102T060000
END:STANDARD
BEGIN:DAYLIGHT
TZOFFSETFROM:-0500
TZOFFSETTO:-0400
TZNAME:EDT
DTSTART:20260308T070000
END:DAYLIGHT
BEGIN:STANDARD
TZOFFSETFROM:-0400
TZOFFSETTO:-0500
TZNAME:EST
DTSTART:20261101T060000
END:STANDARD
BEGIN:DAYLIGHT
TZOFFSETFROM:-0500
TZOFFSETTO:-0400
TZNAME:EDT
DTSTART:20270314T070000
END:DAYLIGHT
BEGIN:STANDARD
TZOFFSETFROM:-0400
TZOFFSETTO:-0500
TZNAME:EST
DTSTART:20271107T060000
END:STANDARD
END:VTIMEZONE
BEGIN:VEVENT
DTSTART;TZID=America/New_York:20260205T180000
DTEND;TZID=America/New_York:20260205T193000
DTSTAMP:20260425T130321
CREATED:20260102T171247Z
LAST-MODIFIED:20260310T152341Z
UID:2742-1770314400-1770319800@womenwalkingwest.org
SUMMARY:Women in Leadership Program
DESCRIPTION:Guest Speaker: Ivy K. Banks\, M.Ed.\, J.D. – Vice President\, Legal Affairs\, Xavier University and Board member for Women Walking West \nJoin us in an engaging conversation with Ivy as she discusses her academic and career journey of strength and resilience. \nHear about Ivy’s experiences and how this Xavier executive has navigated the landscape along the way to personal and professional success. \nPlease RSVP here \nGoogle Meet joining info\nVideo call link: https://meet.google.com/ahy-xfoh-sif\nOr dial: ‪(US) +1 401-830-3400‬ PIN: ‪268 396 714‬#\nMore phone numbers: https://tel.meet/ahy-xfoh-sif?pin=3121768662621
URL:https://womenwalkingwest.org/calendar-of-events/panel-discussion-meet-and-greet-with-board-member/
LOCATION:OH
CATEGORIES:Events,Women In Leadership
ATTACH;FMTTYPE=image/png:https://womenwalkingwest.org/wp-content/uploads/2026/01/WIL.website-2026.02.5-Ivy-Banks-.png
END:VEVENT
BEGIN:VEVENT
DTSTART;TZID=America/New_York:20260206T093000
DTEND;TZID=America/New_York:20260206T110000
DTSTAMP:20260425T130321
CREATED:20251202T155236Z
LAST-MODIFIED:20260310T153528Z
UID:2649-1770370200-1770375600@womenwalkingwest.org
SUMMARY:Everyday English Program
DESCRIPTION:OUR NEXT CLASS IS FRIDAY FEBRUARY 6\, 2026 \nThis free year-long curriculum is designed to empower foreign-born adult women through language development\, mentorship\, and real-world learning. Here is the overview of Classes being offered:  \nUnit 2: How We Show Up \n\nFeb 6\, 20\n\nUnit 3: Language for Career Growth \n\nMar: 6\, 20\nApril: 3\, 17\nMay: 1\, 15\, 29\n\nUnit 4: Citizenship & Civic Engagement\nUnit 5: Empowerment & Advocacy \n\nJune 12\, 26\nJuly 10\, 24\n\nRSVP and more info here
URL:https://womenwalkingwest.org/calendar-of-events/everyday-english-program-10/
LOCATION:OH
CATEGORIES:Events,Everyday English Program
ATTACH;FMTTYPE=image/png:https://womenwalkingwest.org/wp-content/uploads/2025/12/Everyday-English-Program-2026.png
END:VEVENT
BEGIN:VEVENT
DTSTART;TZID=America/New_York:20260220T093000
DTEND;TZID=America/New_York:20260220T110000
DTSTAMP:20260425T130321
CREATED:20251202T155903Z
LAST-MODIFIED:20260310T153528Z
UID:2652-1771579800-1771585200@womenwalkingwest.org
SUMMARY:Everyday English Program
DESCRIPTION:OUR NEXT CLASS IS FRIDAY FEBRUARY 20\, 2026 \nThis free year-long curriculum is designed to empower foreign-born adult women through language development\, mentorship\, and real-world learning. Here is the overview of Classes being offered:  \nUnit 2: How We Show Up \n\nFeb 20\n\nUnit 3: Language for Career Growth \n\nMar: 6\, 20\nApril: 3\, 17\nMay: 1\, 15\, 29\n\nUnit 4: Citizenship & Civic Engagement\nUnit 5: Empowerment & Advocacy \n\nJune 12\, 26\nJuly 10\, 24\n\nRSVP and more info here
URL:https://womenwalkingwest.org/calendar-of-events/everyday-english-program-11/
LOCATION:OH
CATEGORIES:Events,Everyday English Program
ATTACH;FMTTYPE=image/png:https://womenwalkingwest.org/wp-content/uploads/2025/12/Everyday-English-Program-2026.png
END:VEVENT
BEGIN:VEVENT
DTSTART;TZID=America/New_York:20260225T180000
DTEND;TZID=America/New_York:20260225T193000
DTSTAMP:20260425T130321
CREATED:20260102T171247Z
LAST-MODIFIED:20260310T152139Z
UID:2743-1772042400-1772047800@womenwalkingwest.org
SUMMARY:Workforce Readiness Program
DESCRIPTION:Dr. Cynthia Matossian from American College of Eye Technicians (ACET) will discuss careers in the optometry fields. \n  \nRSVP here \nGoogle Meet joining info\nVideo call link: https://meet.google.com/smk-dgud-oku\nOr dial: ‪(US) +1 218-451-4203‬ PIN: ‪996 868 723‬#\nMore phone numbers: https://tel.meet/smk-dgud-oku?pin=4011693400232
URL:https://womenwalkingwest.org/calendar-of-events/panel-discussion-careers-in-ophamology/
LOCATION:OH
CATEGORIES:Events,Workforce Readiness
END:VEVENT
END:VCALENDAR