BEGIN:VCALENDAR
VERSION:2.0
PRODID:-//Women Walking West - ECPv6.15.16.1//NONSGML v1.0//EN
CALSCALE:GREGORIAN
METHOD:PUBLISH
X-WR-CALNAME:Women Walking West
X-ORIGINAL-URL:https://womenwalkingwest.org
X-WR-CALDESC:Events for Women Walking West
REFRESH-INTERVAL;VALUE=DURATION:PT1H
X-Robots-Tag:noindex
X-PUBLISHED-TTL:PT1H
BEGIN:VTIMEZONE
TZID:America/New_York
BEGIN:DAYLIGHT
TZOFFSETFROM:-0500
TZOFFSETTO:-0400
TZNAME:EDT
DTSTART:20250309T070000
END:DAYLIGHT
BEGIN:STANDARD
TZOFFSETFROM:-0400
TZOFFSETTO:-0500
TZNAME:EST
DTSTART:20251102T060000
END:STANDARD
BEGIN:DAYLIGHT
TZOFFSETFROM:-0500
TZOFFSETTO:-0400
TZNAME:EDT
DTSTART:20260308T070000
END:DAYLIGHT
BEGIN:STANDARD
TZOFFSETFROM:-0400
TZOFFSETTO:-0500
TZNAME:EST
DTSTART:20261101T060000
END:STANDARD
BEGIN:DAYLIGHT
TZOFFSETFROM:-0500
TZOFFSETTO:-0400
TZNAME:EDT
DTSTART:20270314T070000
END:DAYLIGHT
BEGIN:STANDARD
TZOFFSETFROM:-0400
TZOFFSETTO:-0500
TZNAME:EST
DTSTART:20271107T060000
END:STANDARD
END:VTIMEZONE
BEGIN:VEVENT
DTSTART;TZID=America/New_York:20260306T093000
DTEND;TZID=America/New_York:20260306T110000
DTSTAMP:20260423T040802
CREATED:20251209T190240Z
LAST-MODIFIED:20260310T153528Z
UID:2654-1772789400-1772794800@womenwalkingwest.org
SUMMARY:Everyday English Program
DESCRIPTION:OUR NEXT CLASS IS FRIDAY MARCH 6\, 2026 \nThis free year-long curriculum is designed to empower foreign-born adult women through language development\, mentorship\, and real-world learning. Here is the overview of Classes being offered:  \nUnit 3: Language for Career Growth \n\nMar: 6\, 20\nApril: 3\, 17\nMay: 1\, 15\, 29\n\nUnit 4: Citizenship & Civic Engagement\nUnit 5: Empowerment & Advocacy \n\nJune 12\, 26\nJuly 10\, 24\n\nRSVP and more info here
URL:https://womenwalkingwest.org/calendar-of-events/everyday-english-program-12/
LOCATION:OH
CATEGORIES:Events,Everyday English Program
ATTACH;FMTTYPE=image/png:https://womenwalkingwest.org/wp-content/uploads/2025/12/Everyday-English-Program-2026.png
END:VEVENT
BEGIN:VEVENT
DTSTART;TZID=America/New_York:20260320T093000
DTEND;TZID=America/New_York:20260320T110000
DTSTAMP:20260423T040802
CREATED:20251209T192119Z
LAST-MODIFIED:20260310T153528Z
UID:2671-1773999000-1774004400@womenwalkingwest.org
SUMMARY:Everyday English Program
DESCRIPTION:OUR NEXT CLASS IS FRIDAY MARCH 20\, 2026 \nThis free year-long curriculum is designed to empower foreign-born adult women through language development\, mentorship\, and real-world learning. Here is the overview of Classes being offered:  \nUnit 3: Language for Career Growth \n\nMar: 20\nApril: 3\, 17\nMay: 1\, 15\, 29\n\nUnit 4: Citizenship & Civic Engagement\nUnit 5: Empowerment & Advocacy \n\nJune 12\, 26\nJuly 10\, 24\n\nRSVP and more info here
URL:https://womenwalkingwest.org/calendar-of-events/everyday-english-program-14/
LOCATION:OH
CATEGORIES:Events,Everyday English Program
ATTACH;FMTTYPE=image/png:https://womenwalkingwest.org/wp-content/uploads/2025/12/Everyday-English-Program-2026.png
END:VEVENT
END:VCALENDAR